BEGIN:VCALENDAR
VERSION:2.0
PRODID:-//ChamberMaster//Event Calendar 2.0//EN
METHOD:PUBLISH
X-PUBLISHED-TTL:P1H
REFRESH-INTERVAL:P1H
CALSCALE:GREGORIAN
BEGIN:VTIMEZONE
TZID:America/New_York
BEGIN:DAYLIGHT
RRULE:FREQ=YEARLY;BYMONTH=3;BYDAY=2SU
DTSTART:20070101T000000
TZOFFSETFROM:-0500
TZOFFSETTO:-0400
TZNAME:Eastern Daylight Time
END:DAYLIGHT
BEGIN:STANDARD
RRULE:FREQ=YEARLY;BYMONTH=11;BYDAY=1SU
DTSTART:20070101T000000
TZOFFSETFROM:-0400
TZOFFSETTO:-0500
TZNAME:Eastern Standard Time
END:STANDARD
END:VTIMEZONE
BEGIN:VEVENT
DTSTART;TZID=America/New_York:20260126T170000
DTEND;TZID=America/New_York:20260126T190000
X-MICROSOFT-CDO-ALLDAYEVENT:FALSE
SUMMARY:Tax and Bookkeeping presentation tailored for current and aspiring small business owners
DESCRIPTION:Join us on January 26 from 5-7 PM at the Lewiston Auburn Metropolitan Chamber of Commerce at 415 Lisbon St\, Lewiston for an informative Tax and Bookkeeping presentation tailored for current and aspiring small business owners. Kryston Lemay\, Esq. from Lake Auburn Legal & Accounting LLC and Abigail Estes from Lougee Business Solutions\, LLC will guide you through important topics\, including different business structures\, tax considerations\, and essential income and expense tracking. Don't miss this opportunity to enhance your financial knowledge and make informed decisions for your business. We look forward to seeing you there!If you have any questions or nee additional information please email: Kryston- kryston@krystonlemay.com or Abby aestes@lougeebusinesssolutions.com
X-ALT-DESC;FMTTYPE=text/html:<!DOCTYPE html><html><head><title></title></head><body aria-disabled="false" data-gr-ext-installed="" data-new-gr-c-s-check-loaded="14.1268.0" data-new-gr-c-s-loaded="14.1268.0"><p><strong fr-original-style="" style="font-weight: 700\;">Join us on January 26 from 5-7 PM at the Lewiston Auburn Metropolitan Chamber of Commerce at 415 Lisbon St\, Lewiston for an informative Tax and Bookkeeping presentation tailored for current and aspiring small business owners.&nbsp\;</strong></p><p>Kryston Lemay\, Esq. from Lake Auburn Legal &amp\; Accounting LLC and Abigail Estes from Lougee Business Solutions\, LLC will guide you through important topics\, including different business structures\, tax considerations\, and essential income and expense tracking.&nbsp\;</p><p>Don&#39\;t miss this opportunity to enhance your financial knowledge and make informed decisions for your business. We look forward to seeing you there!</p><p>If you have any questions or nee additional information please email:</p><p><span style="color: rgb(34\, 34\, 34)\; font-family: Calibri\, sans-serif\; font-size: 18px\; font-style: normal\; font-variant-ligatures: normal\; font-variant-caps: normal\; font-weight: 400\; letter-spacing: normal\; orphans: 2\; text-align: start\; text-indent: 0px\; text-transform: none\; widows: 2\; word-spacing: 0px\; -webkit-text-stroke-width: 0px\; white-space: normal\; background-color: rgb(255\, 255\, 255)\; text-decoration-thickness: initial\; text-decoration-style: initial\; text-decoration-color: initial\; float: none\; display: inline !important\;"> Kryston-&nbsp\;</span><span style="font-size: 18px\;"><a fr-original-style="color: rgb(17\, 85\, 204)\; font-family: Calibri\, sans-serif\; font-size: 14.6667px\; font-style: normal\; font-variant-ligatures: normal\; font-variant-caps: normal\; font-weight: 400\; letter-spacing: normal\; orphans: 2\; text-align: start\; text-indent: 0px\; text-transform: none\; widows: 2\; word-spacing: 0px\; -webkit-text-stroke-width: 0px\; white-space: normal\; background-color: rgb(255\, 255\, 255)\;" href="mailto:kryston@krystonlemay.com" style="color: rgb(17\, 85\, 204)\; font-family: Calibri\, sans-serif\; font-size: 14.6667px\; font-style: normal\; font-variant-ligatures: normal\; font-variant-caps: normal\; font-weight: 400\; letter-spacing: normal\; orphans: 2\; text-align: start\; text-indent: 0px\; text-transform: none\; widows: 2\; word-spacing: 0px\; -webkit-text-stroke-width: 0px\; white-space: normal\; background-color: rgb(255\, 255\, 255)\; user-select: auto\;" target="_blank">kryston@krystonlemay.com</a><span style="color: rgb(34\, 34\, 34)\; font-family: Calibri\, sans-serif\; font-style: normal\; font-variant-ligatures: normal\; font-variant-caps: normal\; font-weight: 400\; letter-spacing: normal\; orphans: 2\; text-align: start\; text-indent: 0px\; text-transform: none\; widows: 2\; word-spacing: 0px\; -webkit-text-stroke-width: 0px\; white-space: normal\; background-color: rgb(255\, 255\, 255)\; text-decoration-thickness: initial\; text-decoration-style: initial\; text-decoration-color: initial\; float: none\; display: inline !important\;">&nbsp\;or Abby&nbsp\;</span></span><a fr-original-style="color: rgb(17\, 85\, 204)\; font-family: Calibri\, sans-serif\; font-size: 14.6667px\; font-style: normal\; font-variant-ligatures: normal\; font-variant-caps: normal\; font-weight: 400\; letter-spacing: normal\; orphans: 2\; text-align: start\; text-indent: 0px\; text-transform: none\; widows: 2\; word-spacing: 0px\; -webkit-text-stroke-width: 0px\; white-space: normal\; background-color: rgb(255\, 255\, 255)\;" href="mailto:aestes@lougeebusinesssolutions.com" style="color: rgb(17\, 85\, 204)\; font-family: Calibri\, sans-serif\; font-size: 14.6667px\; font-style: normal\; font-variant-ligatures: normal\; font-variant-caps: normal\; font-weight: 400\; letter-spacing: normal\; orphans: 2\; text-align: start\; text-indent: 0px\; text-transform: none\; widows: 2\; word-spacing: 0px\; -webkit-text-stroke-width: 0px\; white-space: normal\; background-color: rgb(255\, 255\, 255)\; user-select: auto\;" target="_blank"><span style="font-size: 18px\;">aestes@<wbr>lougeebusinesssolutions.com</span></a></p></body></html>
LOCATION:415 Lisbon St. Suite 100 Lewiston
UID:e.4124.1372577
SEQUENCE:3
DTSTAMP:20260423T153056Z
URL:https://events.lametrochamber.com/list/Details/tax-and-bookkeeping-presentation-tailored-for-current-and-aspiring-small-business-owners-1619964?sourceTypeId=Hub
END:VEVENT
END:VCALENDAR
